BEGIN:VCALENDAR
METHOD:PUBLISH
PRODID:-//design-museum.de//NONSGML iCalcreator 2.6//
VERSION:2.0
X-WR-TIMEZONE:Europe/Berlin
BEGIN:VEVENT
UID:20230407T185703CEST-4045SVspx7@design-museum.de
DTSTAMP:20230407T165703Z
CATEGORIES:Architekturführung
DESCRIPTION:
DTSTART:20230731T150000
DTEND:20230731T150000
LOCATION:Start: Vitra Schaudepot
SUMMARY:Architekturführung - Architekturführung (EN)
END:VEVENT
END:VCALENDAR
