BEGIN:VCALENDAR
METHOD:PUBLISH
PRODID:-//design-museum.de//NONSGML iCalcreator 2.6//
VERSION:2.0
X-WR-TIMEZONE:Europe/Berlin
BEGIN:VEVENT
UID:20230407T185641CEST-41320SgbS8@design-museum.de
DTSTAMP:20230407T165641Z
CATEGORIES:Architekturführung
DESCRIPTION:
DTSTART:20230627T150000
DTEND:20230627T150000
LOCATION:Start: Vitra Schaudepot
SUMMARY:Architekturführung - Architekturführung (EN)
END:VEVENT
END:VCALENDAR
