BEGIN:VCALENDAR
METHOD:PUBLISH
PRODID:-//design-museum.de//NONSGML iCalcreator 2.6//
VERSION:2.0
X-WR-TIMEZONE:Europe/Berlin
BEGIN:VEVENT
UID:20230407T195205CEST-7263r3VxXt@design-museum.de
DTSTAMP:20230407T175205Z
CATEGORIES:Architekturführung
DESCRIPTION:
DTSTART:20230401T143000
LOCATION:Vitra Schaudepot
SUMMARY:Architekturführung - Visite guidée d'architecture (FR)
END:VEVENT
END:VCALENDAR
