BEGIN:VCALENDAR
METHOD:PUBLISH
PRODID:-//design-museum.de//NONSGML iCalcreator 2.6//
VERSION:2.0
X-WR-TIMEZONE:Europe/Berlin
BEGIN:VEVENT
UID:20230407T185734CEST-73141kwOrt@design-museum.de
DTSTAMP:20230407T165734Z
CATEGORIES:Architekturführung
DESCRIPTION:
DTSTART:20230603T143000
LOCATION:Vitra Schaudepot
SUMMARY:Architekturführung - Visite guidée d'architecture (FR)
END:VEVENT
END:VCALENDAR
