BEGIN:VCALENDAR
METHOD:PUBLISH
PRODID:-//design-museum.de//NONSGML iCalcreator 2.6//
VERSION:2.0
X-WR-TIMEZONE:Europe/Berlin
BEGIN:VEVENT
UID:20230407T185649CEST-0021pNx5RE@design-museum.de
DTSTAMP:20230407T165649Z
CATEGORIES:Ausstellungsführung
DESCRIPTION:
DTSTART:20230608T140000
LOCATION:
SUMMARY:Ausstellungsführung - »Colour Rush!« – Führung durch das Vitr
 a Schaudepot (DE)
END:VEVENT
END:VCALENDAR
