BEGIN:VCALENDAR
METHOD:PUBLISH
PRODID:-//design-museum.de//NONSGML iCalcreator 2.6//
VERSION:2.0
X-WR-TIMEZONE:Europe/Berlin
BEGIN:VEVENT
UID:20230407T185740CEST-4018IDcJcV@design-museum.de
DTSTAMP:20230407T165740Z
CATEGORIES:Workshop
DESCRIPTION:Erschwingliches Design für alle – diese Idee ist so alt wie 
 Design selbst und hat nichts an Aktualität verloren. Der Berliner Designe
 r und Architekt Van Bo Le-Mentzel überträgt das Konzept ins digitale Zei
 talter: Die Baupläne für viele seiner Möbel kann man im Internet herunt
 erladen und selbst nachbauen. Für diesen Workshop hat Le-Mentzel eigens e
 inen Stuhl entworfen – den Weil Chair – den die TeilnehmerInnen unter 
 Anleitung bauen.\n175\,00 € pro Person\n Dauer: 8 Stunden
DTSTART:20230415T103000
DTEND:20230415T183000
LOCATION:Vitra Schaudepot
SUMMARY:Workshop - Weil Chair – Ein Stuhl für alle | WORKSHOP (DE)
END:VEVENT
END:VCALENDAR
