BEGIN:VCALENDAR
METHOD:PUBLISH
PRODID:-//design-museum.de//NONSGML iCalcreator 2.6//
VERSION:2.0
X-WR-TIMEZONE:Europe/Berlin
BEGIN:VEVENT
UID:20230407T195405CEST-7511pUXven@design-museum.de
DTSTAMP:20230407T175405Z
CATEGORIES:Workshop
DESCRIPTION:\n
DTSTART:20160618T103000
LOCATION:Vitra Design Museum
SUMMARY:Workshop - ReDesign it! / WORKSHOP (DE)
END:VEVENT
END:VCALENDAR
