BEGIN:VCALENDAR
METHOD:PUBLISH
PRODID:-//design-museum.de//NONSGML iCalcreator 2.6//
VERSION:2.0
X-WR-TIMEZONE:Europe/Berlin
BEGIN:VEVENT
UID:20230407T195236CEST-9570UiUXwx@design-museum.de
DTSTAMP:20230407T175236Z
CATEGORIES:Workshop
DESCRIPTION:
DTSTART:20160528T103000
LOCATION:Vitra Design Museum
SUMMARY:Workshop - Open Design – The ZipStitch Chair / WORKSHOP (DE)
END:VEVENT
END:VCALENDAR
