BEGIN:VCALENDAR
METHOD:PUBLISH
PRODID:-//design-museum.de//NONSGML iCalcreator 2.6//
VERSION:2.0
X-WR-TIMEZONE:Europe/Berlin
BEGIN:VEVENT
UID:20230407T195204CEST-2306KESnfd@design-museum.de
DTSTAMP:20230407T175204Z
CATEGORIES:Workshop
DESCRIPTION:3D-Drucken gilt als Trend für die Zukunft\, es verändert die 
 Art Dinge herzustellen\, deren Gestaltung\, Entwicklung und den Ort der Pr
 oduktion. In diesem Workshop\, der zusammen mit dem FabLab Zürich durchge
 führt wird\, erleben die Teilnehmer den Weg von der Idee zum gedruckten 3
 D-Objekt. Dazu bekommt jeder Teilnehmer eine Einführung in ein 3D-Program
 m und entwickelt eine Form\, die im Anschluss gedruckt wird.\n115\,00 € 
 pro Person\, Anmeldungen unter info(at)design-museum.de
DTSTART:20160611T103000
LOCATION:Vitra Design Museum
SUMMARY:Workshop - 3D-Drucken / WORKSHOP (DE)
END:VEVENT
END:VCALENDAR
